BEGIN:VCALENDAR
VERSION:2.0
PRODID:-//ESA Science Hub - ECPv6.6.1//NONSGML v1.0//EN
CALSCALE:GREGORIAN
METHOD:PUBLISH
X-ORIGINAL-URL:https://sciencehub.esa.int
X-WR-CALDESC:Events for ESA Science Hub
REFRESH-INTERVAL;VALUE=DURATION:PT1H
X-Robots-Tag:noindex
X-PUBLISHED-TTL:PT1H
BEGIN:VTIMEZONE
TZID:Europe/Rome
BEGIN:DAYLIGHT
TZOFFSETFROM:+0100
TZOFFSETTO:+0200
TZNAME:CEST
DTSTART:20240331T010000
END:DAYLIGHT
BEGIN:STANDARD
TZOFFSETFROM:+0200
TZOFFSETTO:+0100
TZNAME:CET
DTSTART:20241027T010000
END:STANDARD
END:VTIMEZONE
BEGIN:VEVENT
DTSTART;TZID=Europe/Rome:20240305T000000
DTEND;TZID=Europe/Rome:20240305T235959
DTSTAMP:20260420T022255
CREATED:20240315T154523Z
LAST-MODIFIED:20250612T133035Z
UID:4013-1709596800-1709683199@sciencehub.esa.int
SUMMARY:EarthCODE co-design workshop
DESCRIPTION:ESA recently kicked off the development of EarthCODE- a Collaborative Development Environment for Earth System Science. The goal of the project is to enable science activities funded under FutureEO’s EO4Society element to adhere to FAIR Open Science practices\, contributing to the achievement of ESA’s vision for EO Open Science and Innovation. The workshop will be hosted in the ESA-ESRIN Science Hub on 05/03/2024.
URL:https://sciencehub.esa.int/event/earthcode-co-design-workshop/
LOCATION:ESA-ESRIN\, Via Galielo Galilei\, 1\, Frascati\, 00046\, Italy
ATTACH;FMTTYPE=image/jpeg:https://sciencehub.esa.int/wp-content/uploads/2024/03/EarthCODE_Herobanner_1920x1080.jpg
END:VEVENT
END:VCALENDAR