BEGIN:VCALENDAR
VERSION:2.0
PRODID:-//ESA Science Hub - ECPv6.6.1//NONSGML v1.0//EN
CALSCALE:GREGORIAN
METHOD:PUBLISH
X-ORIGINAL-URL:https://sciencehub.esa.int
X-WR-CALDESC:Events for ESA Science Hub
REFRESH-INTERVAL;VALUE=DURATION:PT1H
X-Robots-Tag:noindex
X-PUBLISHED-TTL:PT1H
BEGIN:VTIMEZONE
TZID:Europe/Rome
BEGIN:DAYLIGHT
TZOFFSETFROM:+0100
TZOFFSETTO:+0200
TZNAME:CEST
DTSTART:20240331T010000
END:DAYLIGHT
BEGIN:STANDARD
TZOFFSETFROM:+0200
TZOFFSETTO:+0100
TZNAME:CET
DTSTART:20241027T010000
END:STANDARD
END:VTIMEZONE
BEGIN:VEVENT
DTSTART;TZID=Europe/Rome:20240226T000000
DTEND;TZID=Europe/Rome:20240301T235959
DTSTAMP:20260420T002017
CREATED:20240209T093753Z
LAST-MODIFIED:20240212T092730Z
UID:3891-1708905600-1709337599@sciencehub.esa.int
SUMMARY:Workshop with Université Sorbonne Paris 26 Feb – 01 March
DESCRIPTION:The Science Hub is hosting the 2nd edition of the Earth System Science Workshop in partnership with the Sorbonne Universite Paris\, Academie Spatiale d’Ile de France and IPGP. The event will take place between 26th of February – 1st of March 2024. \n\n\n\nThe scope of the workshop is to train PhD students in working with Earth Observation data to understand Earth system dynamics and processes. The participating students will be working on several topics\, looking on how to best exploit various EO datasets to derive societal relevant insights and design a webstory to be published on EO Dashboard\, illustrating the insights. \n\n\n\nThe technology partners for this workshop are the DeepESDL Platform (https://earthsystemdatalab.net) – providing the access to data and cloud computing\, and the NASA-ESA-JAXA EO Dashboard (https://eodashboard.org) – providing the storytelling tools and hosting the results. \n\n\n\nOrganisers: ESA\, Sorbonne Universite Paris\, Academie Spatiale d’Ile de France and IPGP
URL:https://sciencehub.esa.int/event/workshop-with-universite-sorbonne-paris-26-feb-01-march/
LOCATION:ESA-ESRIN\, Via Galielo Galilei\, 1\, Frascati\, 00046\, Italy
ATTACH;FMTTYPE=image/png:https://sciencehub.esa.int/wp-content/uploads/2024/02/Picture1.png
END:VEVENT
END:VCALENDAR