BEGIN:VCALENDAR
VERSION:2.0
PRODID:-//ESA Science Hub - ECPv6.6.1//NONSGML v1.0//EN
CALSCALE:GREGORIAN
METHOD:PUBLISH
X-ORIGINAL-URL:https://sciencehub.esa.int
X-WR-CALDESC:Events for ESA Science Hub
REFRESH-INTERVAL;VALUE=DURATION:PT1H
X-Robots-Tag:noindex
X-PUBLISHED-TTL:PT1H
BEGIN:VTIMEZONE
TZID:Europe/Rome
BEGIN:DAYLIGHT
TZOFFSETFROM:+0100
TZOFFSETTO:+0200
TZNAME:CEST
DTSTART:20230326T010000
END:DAYLIGHT
BEGIN:STANDARD
TZOFFSETFROM:+0200
TZOFFSETTO:+0100
TZNAME:CET
DTSTART:20231029T010000
END:STANDARD
END:VTIMEZONE
BEGIN:VEVENT
DTSTART;TZID=Europe/Rome:20231115T100000
DTEND;TZID=Europe/Rome:20231115T224500
DTSTAMP:20260420T013843
CREATED:20240129T151611Z
LAST-MODIFIED:20260413T144603Z
UID:3856-1700042400-1700088300@sciencehub.esa.int
SUMMARY:Science Talk: Hamidreza Mosaffa
DESCRIPTION:Developing purely high-resolution satellite-derived precipitation estimation through a deep learning algorithm
URL:https://sciencehub.esa.int/event/science-talk-hamidreza-mosaffa/
LOCATION:ESRIN Science Hub\, Via Galileo Galilei\, 1\, Frascati\, RM\, 00044\, Italy
END:VEVENT
END:VCALENDAR